OziExplorer Map Data File Version 2.1
nemecko.ozf2
1, MapCode ,WGS 84, 0.0000, 0.0000,WGS 84
Reserved 1
Reserved 2
Magnetic Variation,,,E
Map Projection,,PolyCal,No,AutoCalOnly,No,BSBUseWPX,No
Point01,xy,04170,00488,in, deg, 50, 24.9312,N, 12, 22.0716,E, grid,,,,N
Point02,xy,04170,05674,in, deg, 49, 50.6772,N, 12, 22.0716,E, grid,,,,N
Point03,xy,02494,05670,in, deg, 49, 50.7042,N, 12, 4.8198,E, grid,,,,N
Point04,xy,00842,00526,in, deg, 50, 24.6751,N, 11, 47.7942,E, grid,,,,N
Point05,xy, , ,in, deg, , ,N, , ,W, grid,,,,N
Point06,xy, , ,in, deg, , ,N, , ,W, grid,,,,N
Point07,xy, , ,in, deg, , ,N, , ,W, grid,,,,N
Point08,xy, , ,in, deg, , ,N, , ,W, grid,,,,N
Point09,xy, , ,in, deg, , ,N, , ,W, grid,,,,N
Point10,xy, , ,in, deg, , ,N, , ,W, grid,,,,N
Point11,xy, , ,in, deg, , ,N, , ,W, grid,,,,N
Point12,xy, , ,in, deg, , ,N, , ,W, grid,,,,N
Point13,xy, , ,in, deg, , ,N, , ,W, grid,,,,N
Point14,xy, , ,in, deg, , ,N, , ,W, grid,,,,N
Point15,xy, , ,in, deg, , ,N, , ,W, grid,,,,N
Point16,xy, , ,in, deg, , ,N, , ,W, grid,,,,N
Point17,xy, , ,in, deg, , ,N, , ,W, grid,,,,N
Point18,xy, , ,in, deg, , ,N, , ,W, grid,,,,N
Point19,xy, , ,in, deg, , ,N, , ,W, grid,,,,N
Point20,xy, , ,in, deg, , ,N, , ,W, grid,,,,N
Point21,xy, , ,in, deg, , ,N, , ,W, grid,,,,N
Point22,xy, , ,in, deg, , ,N, , ,W, grid,,,,N
Point23,xy, , ,in, deg, , ,N, , ,W, grid,,,,N
Point24,xy, , ,in, deg, , ,N, , ,W, grid,,,,N
Point25,xy, , ,in, deg, , ,N, , ,W, grid,,,,N
Point26,xy, , ,in, deg, , ,N, , ,W, grid,,,,N
Point27,xy, , ,in, deg, , ,N, , ,W, grid,,,,N
Point28,xy, , ,in, deg, , ,N, , ,W, grid,,,,N
Point29,xy, , ,in, deg, , ,N, , ,W, grid,,,,N
Point30,xy, , ,in, deg, , ,N, , ,W, grid,,,,N
Projection Setup,0.000000,0.000000,1.000000,0.000000,0.000000,0.000000,0.000000,,,
Map Feature = MF ; Map Comment = MC These follow if they exist
Track File = TF These follow if they exist
Moving Map Parameters = MM? These follow if they exist
MM0,Yes
MMPNUM,4
MMPXY,1,0,0
MMPXY,2,5008,0
MMPXY,3,5008,6197
MMPXY,4,0,6197
MMPLL,1,11.652148,50.469170
MMPLL,2,12.511568,50.469219
MMPLL,3,12.511725,49.787071
MMPLL,4,11.652306,49.787022
MM1B,12.343334
MOP,Map Open Position,0,0
IWH,Map Image Width/Height,5008,6197
